BEGIN:VCALENDAR
VERSION:2.0
PRODID:-//ChamberMaster//Event Calendar 2.0//EN
METHOD:PUBLISH
X-PUBLISHED-TTL:P3D
REFRESH-INTERVAL:P3D
CALSCALE:GREGORIAN
BEGIN:VEVENT
DTSTART:20210727T153000Z
DTEND:20210727T170000Z
X-MICROSOFT-CDO-ALLDAYEVENT:FALSE
SUMMARY:How's Your Work/Life Balance?
DESCRIPTION:When was the last time you stepped away from the day to day and focused on the big picture? Can you dedicate some time to do that?\n\nAt The Growth Coach of the Lowcountry\, we believe if business owners\, leaders\, managers\, and sales professionals adopt a more strategic mindset\, they can transform their businesses and lives. They will be more effective and successful both personally and professionally. This workshop provides an introduction to our powerful Strategic Mindset  Process. This unique coaching and accountability process empowers the participant to step away from the daily grind and begin working "On" their business instead of "In" their business. Our proprietary process is designed to help participants:\n\n  Slow down and reflect on your business\n\n  Better manage your priorities\n\n  Generate an action plan to increase revenue\n\n  Learn ways to dramatically grow your business\n\n  Achieve greater work life balance\n\nJoin us for this powerful business workshop and start planning your success and endless possibilities!
X-ALT-DESC;FMTTYPE=text/html:<p>When was the last time you stepped away from the day to day and focused on the big picture? Can you dedicate some time to do that?</p>\n\n<p>At The Growth Coach of the Lowcountry\, we believe if business owners\, leaders\, managers\, and sales professionals adopt a more strategic mindset\, they can transform their businesses and lives. They will be more effective and successful both personally and professionally. This workshop provides an introduction to our powerful Strategic Mindset&reg\; Process. This unique coaching and accountability process empowers the participant to step away from the daily grind and begin working &ldquo\;On&rdquo\; their business instead of &ldquo\;In&rdquo\; their business. Our proprietary process is designed to help participants:</p>\n\n<p>&bull\; Slow down and reflect on your business</p>\n\n<p>&bull\; Better manage your priorities</p>\n\n<p>&bull\; Generate an action plan to increase revenue</p>\n\n<p>&bull\; Learn ways to dramatically grow your business</p>\n\n<p>&bull\; Achieve greater work life balance</p>\n\n<p>Join us for this powerful business workshop and start planning your success and endless possibilities!</p>\n\n<p>&nbsp\;</p>\n
LOCATION:Free\, Zoom Workshop - Register here: https://balance-work-life.eventbrite.com
UID:e.3610.506
SEQUENCE:3
DTSTAMP:20260420T183704Z
URL:https://business.mountpleasantchamber.org/events/details/how-s-your-work-life-balance-506
END:VEVENT

END:VCALENDAR
