BEGIN:VCALENDAR
VERSION:2.0
PRODID:-//ChamberMaster//Event Calendar 2.0//EN
METHOD:PUBLISH
X-PUBLISHED-TTL:P3D
REFRESH-INTERVAL:P3D
CALSCALE:GREGORIAN
BEGIN:VEVENT
DTSTART:20231108T170000Z
DTEND:20231108T180000Z
X-MICROSOFT-CDO-ALLDAYEVENT:FALSE
SUMMARY:Healthy Eating for the Holidays
DESCRIPTION:MUSC Business Health Presents\, "Healthy Eating for the Holidays"\, featuring guest speaker Caroline D. Thompson\, RD\, LD\, who will share tips on nutrition for upcoming holiday celebrations.\n\n\n\nPlease register at https://musc.co/november23
X-ALT-DESC;FMTTYPE=text/html:MUSC Business Health Presents\, &quot\;Healthy Eating for the Holidays&quot\;\, featuring guest speaker Caroline D. Thompson\, RD\, LD\, who will share tips on nutrition for upcoming holiday celebrations.<br />\n<br />\nPlease register at https://musc.co/november23<br />\n&nbsp\;
LOCATION:Online event
UID:e.3610.1672
SEQUENCE:3
DTSTAMP:20260420T044936Z
URL:https://business.mountpleasantchamber.org/events/details/healthy-eating-for-the-holidays-1672
END:VEVENT

END:VCALENDAR
