BEGIN:VCALENDAR
VERSION:2.0
PRODID:-//ChamberMaster//Event Calendar 2.0//EN
METHOD:PUBLISH
X-PUBLISHED-TTL:P3D
REFRESH-INTERVAL:P3D
CALSCALE:GREGORIAN
BEGIN:VEVENT
DTSTART:20201014T160000Z
DTEND:20201014T170000Z
X-MICROSOFT-CDO-ALLDAYEVENT:FALSE
SUMMARY:Doing Business with the Town of Mount Pleasant
DESCRIPTION:You are invited to the join this virtual event sponsored by the Town of Mount Pleasant. Please see the topics below that will be covered:   \n\n\n\nBusiness licensing\n\nConsiderations for current businesses\n\nConsiderations for new businesses\n\nLocal business support programs\n\nBecoming a vendor\n\nBidding on projects\n\nFederal procurements for disadvantaged businesses\n\nLocal Vendor Partnership Program\n\nFY 2021 Budget\n\nImpact of COVID-19 on annual budget\n\n\n\nClick here for the link to join.\n\n\n\nWhen you get access to the event you have one of 2 options:  \n\n1 - Download Microsoft Teams app and create an account if you don't have one OR\n\n2 You can simply watch it on the web\; since this is a public event it allows for the same functionality
X-ALT-DESC;FMTTYPE=text/html:<span style="font-family:verdana\;">You are invited to the join this virtual event sponsored by the Town of Mount Pleasant. Please see the topics below that will be covered:&nbsp\; &nbsp\;<br />\n<br />\nBusiness licensing<br />\nConsiderations for current businesses<br />\nConsiderations for new businesses<br />\nLocal business support programs<br />\nBecoming a vendor<br />\nBidding on projects<br />\nFederal procurements for disadvantaged businesses<br />\nLocal Vendor Partnership Program<br />\nFY 2021 Budget<br />\nImpact of COVID-19 on annual budget<br />\n<br />\nClick <strong><a href="https://teams.microsoft.com/l/meetup-join/19%3ameeting_OWU1NWM5ZjUtYWJjMC00NTc3LTkyMmQtYTRjYTdjNGVjOGJk%40thread.v2/0?context=%7b%22Tid%22%3a%221625c419-90b6-460e-afc7-3f4628c3f25d%22%2c%22Oid%22%3a%222ef210e9-7f8b-48ac-80fe-82608835eeae%22%2c%22IsBroadcastMeeting%22%3atrue%7d">here</a></strong> for the link to join.<br />\n<br />\nWhen you get access to the event you have one of 2 options:&nbsp\;&nbsp\;<br />\n1 - Download Microsoft Teams app and create an account if you don&#39\;t have one OR<br />\n2 You can simply watch it on the web\; since this is a public event it allows for the same functionality</span>
LOCATION:
UID:e.3610.35
SEQUENCE:3
DTSTAMP:20260420T154811Z
URL:https://business.mountpleasantchamber.org/events/details/doing-business-with-the-town-of-mount-pleasant-35
END:VEVENT

END:VCALENDAR
