BEGIN:VCALENDAR
VERSION:2.0
PRODID:-//ChamberMaster//Event Calendar 2.0//EN
METHOD:PUBLISH
X-PUBLISHED-TTL:P3D
REFRESH-INTERVAL:P3D
CALSCALE:GREGORIAN
BEGIN:VEVENT
DTSTART:20200420T180000Z
DTEND:20200420T190000Z
X-MICROSOFT-CDO-ALLDAYEVENT:FALSE
SUMMARY:COVID-19: SC Chamber & Senator Lindsey Graham
DESCRIPTION:COVID-19: SC Chamber & Senator Lindsey Graham\n\nREGISTER
X-ALT-DESC;FMTTYPE=text/html:<span style="color: rgb(34\, 34\, 34)\; font-family: Georgia\, serif\; font-size: small\; background-color: rgb(255\, 255\, 255)\;">COVID-19: SC Chamber &amp\; Senator Lindsey Graham</span><br />\n<a href="https://us04web.zoom.us/webinar/register/WN_4rapEpSuQECfpj5pC5hjqQ"><strong>REGISTER</strong></a>
LOCATION:
UID:e.3610.311
SEQUENCE:3
DTSTAMP:20260420T050402Z
URL:https://business.mountpleasantchamber.org/events/details/covid-19-sc-chamber-senator-lindsey-graham-311
END:VEVENT

END:VCALENDAR
