BEGIN:VCALENDAR
VERSION:2.0
PRODID:-//ChamberMaster//Event Calendar 2.0//EN
METHOD:PUBLISH
X-PUBLISHED-TTL:P3D
REFRESH-INTERVAL:P3D
CALSCALE:GREGORIAN
BEGIN:VEVENT
DTSTART:20200415T140000Z
DTEND:20200415T144500Z
X-MICROSOFT-CDO-ALLDAYEVENT:FALSE
SUMMARY:Covid-19 and Tax Planning
DESCRIPTION:Joe Hinske is a CPA and Managing partner of Legare + Bailey + Hinske LLC in Mt. Pleasant\, SC and serves on the MPCC Executive Board.   He is a graduate of Charleston Southern University with a degree in business and has a Masters in Accountancy from the University of Charleston\, SC. Joe  has taught taxation at both schools at the undergraduate and graduate levels. \n\n\n\nPlease email questions to Rebecca@MountPleasantChamber.org no later than Tuesday\, April 14 at 5:00 PM.\n\n\n\nJoin from a PC\, Mac\, iPad\, iPhone or Android device:\n\nPlease click this URL to join. https://us04web.zoom.us/s/296571077?pwd=WldhNC82VzZieENsS1h3cUExRHVnUT09\n\nPassword: 023377\nOr join by phone:\n\nDial(for higher quality\, dial a number based on your current location):\n\nUS: +1 929 205 6099 or +1 312 626 6799 or +1 669 900 6833 or +1 253 215 8782 or +1 301 715 8592 or +1 346 248 7799\n\nWebinar ID: 296 571 077\n\nPassword: 023377\n\nInternational numbers available: https://us04web.zoom.us/u/feia6bneC2
X-ALT-DESC;FMTTYPE=text/html:Joe Hinske is a CPA and Managing partner of Legare + Bailey + Hinske LLC in Mt. Pleasant\, SC and serves on the MPCC Executive Board.&nbsp\; &nbsp\;He is a graduate of Charleston Southern University with a degree in business and has a Masters in Accountancy from the University of Charleston\, SC. Joe&nbsp\; has taught taxation at both schools at the undergraduate and graduate levels.&nbsp\;<br />\n<br />\n<span style="color: rgb(51\, 51\, 51)\; font-family: sans-serif\, Arial\, Verdana\, &quot\;Trebuchet MS&quot\;\; font-size: 13px\; background-color: rgb(255\, 255\, 255)\;">Please email questions to <a href="mailto:rebecca@mountpleasantchamber.org.">Rebecca@MountPleasantChamber.org</a> no later than Tuesday\, April 14 at 5:00 PM.</span><br />\n<br />\n<span style="color: rgb(34\, 34\, 34)\; font-family: Arial\, sans-serif\; font-size: 13px\; white-space: pre-wrap\; background-color: rgb(255\, 255\, 255)\;">Join from a PC\, Mac\, iPad\, iPhone or Android device:</span><br style="color: rgb(34\, 34\, 34)\; font-family: Arial\, sans-serif\; font-size: 13px\; white-space: pre-wrap\; background-color: rgb(255\, 255\, 255)\;" />\n<span style="color: rgb(34\, 34\, 34)\; font-family: Arial\, sans-serif\; font-size: 13px\; white-space: pre-wrap\; background-color: rgb(255\, 255\, 255)\;">Please click this URL to join. </span><a data-saferedirecturl="https://www.google.com/url?q=https://www.google.com/url?q%3Dhttps%253A%252F%252Fus04web.zoom.us%252Fs%252F296571077%253Fpwd%253DWldhNC82VzZieENsS1h3cUExRHVnUT09%26sa%3DD%26usd%3D2%26usg%3DAFQjCNHHKQZdnlzBap4-dz-wNguqC8aAZw&amp\;source=gmail&amp\;ust=1586624574033000&amp\;usg=AFQjCNGmvvejse4luVfEGSrBXB94phtdmA" href="https://www.google.com/url?q=https%3A%2F%2Fus04web.zoom.us%2Fs%2F296571077%3Fpwd%3DWldhNC82VzZieENsS1h3cUExRHVnUT09&amp\;sa=D&amp\;usd=2&amp\;usg=AFQjCNHHKQZdnlzBap4-dz-wNguqC8aAZw" style="color: rgb(17\, 85\, 204)\; font-family: Arial\, sans-serif\; font-size: 13px\; white-space: pre-wrap\; background-color: rgb(255\, 255\, 255)\;" target="_blank">https://us04web.zoom.us/s/<wbr />296571077?pwd=<wbr />WldhNC82VzZieENsS1h3cUExRHVnUT<wbr />09</a><br style="color: rgb(34\, 34\, 34)\; font-family: Arial\, sans-serif\; font-size: 13px\; white-space: pre-wrap\; background-color: rgb(255\, 255\, 255)\;" />\n<span style="color: rgb(34\, 34\, 34)\; font-family: Arial\, sans-serif\; font-size: 13px\; white-space: pre-wrap\; background-color: rgb(255\, 255\, 255)\;">Password: 023377</span>\n<p style="color: rgb(34\, 34\, 34)\; font-family: Arial\, sans-serif\; font-size: 13px\; white-space: pre-wrap\; background-color: rgb(255\, 255\, 255)\;">Or join by phone:<br />\nDial(for higher quality\, dial a number based on your current location):<br />\nUS: +1 929 205 6099 or +1 312 626 6799 or +1 669 900 6833 or +1 253 215 8782 or +1 301 715 8592 or +1 346 248 7799<br />\nWebinar ID: 296 571 077<br />\nPassword: 023377<br />\nInternational numbers available: <a data-saferedirecturl="https://www.google.com/url?q=https://www.google.com/url?q%3Dhttps%253A%252F%252Fus04web.zoom.us%252Fu%252Ffeia6bneC2%26sa%3DD%26usd%3D2%26usg%3DAFQjCNHdFh-x4Q3Sylcnv1kT3VvReioElQ&amp\;source=gmail&amp\;ust=1586624574033000&amp\;usg=AFQjCNENqnUqN_PuB8-u4-bnKsk2nEyXcA" href="https://www.google.com/url?q=https%3A%2F%2Fus04web.zoom.us%2Fu%2Ffeia6bneC2&amp\;sa=D&amp\;usd=2&amp\;usg=AFQjCNHdFh-x4Q3Sylcnv1kT3VvReioElQ" style="color: rgb(17\, 85\, 204)\;" target="_blank">https://us04web.zoom.us/u/<wbr />feia6bneC2</a></p>\n
LOCATION:
UID:e.3610.305
SEQUENCE:3
DTSTAMP:20260420T051433Z
URL:https://business.mountpleasantchamber.org/events/details/covid-19-and-tax-planning-305
END:VEVENT

END:VCALENDAR
