BEGIN:VCALENDAR
VERSION:2.0
PRODID:-//ChamberMaster//Event Calendar 2.0//EN
METHOD:PUBLISH
X-PUBLISHED-TTL:P3D
REFRESH-INTERVAL:P3D
CALSCALE:GREGORIAN
BEGIN:VEVENT
DTSTART:20200409T180000Z
DTEND:20200409T190000Z
X-MICROSOFT-CDO-ALLDAYEVENT:FALSE
SUMMARY:Coronavirus Aid\, Relief\, and Economic Security (CARES) Act Tax Credit Webinar
DESCRIPTION:As we continue to bring you the most relevant coronavirus content as possible\, we invite you to attend a webinar co-hosted by the SC Chamber and their partners to help businesses navigate the impacts of COVID-19 and the ever-changing business environment.\n\n\n\nThis webinar\, available to you as a member of the Mount Pleasant Chamber of Commerce\, is detailed below.\n\n\n\n          Coronavirus Aid\, Relief\, and Economic Security (CARES) Act Tax Credit Webinar\n\n          Date: Thursday\, April 9th\, 2:00 PM ET\n\n          Presenter: Ray Beeman\, Principal and Co-leader\, Washington Council Ernst and Young\, LLP\n\n          Topic: Federal tax policy update regarding COVID-19 changes\n\n          Registration: You must register in advance for this webinar using this link
X-ALT-DESC;FMTTYPE=text/html:<span style="color:#201f1e\;"><span style="font-family:arial\,sans-serif\;"><span style="font-size:10.5pt\;">As we continue to bring you the most relevant coronavirus content as possible\, we invite you to attend a webinar co-hosted by the SC Chamber and their partners to help businesses navigate the impacts of COVID-19 and the ever-changing business environment.<br />\n<br />\nThis webinar\, available to you as a member of the Mount Pleasant Chamber of Commerce\, is detailed below.</span></span></span><br />\n<br />\n<span style="color:#201f1e\;"><span style="font-family:symbol\;"><span style="font-size:10pt\;">&middot\;&nbsp\;&nbsp\;&nbsp\;&nbsp\;&nbsp\;&nbsp\;&nbsp\;&nbsp\;&nbsp\;</span></span></span><strong><span style="color:#201f1e\;"><span style="font-family:arial\,sans-serif\;"><span style="font-size:10.5pt\;">Coronavirus Aid\, Relief\, and Economic Security (CARES) Act </span></span></span></strong><strong><span style="color:#201f1e\;"><span style="font-family:arial\,sans-serif\;"><span style="font-size:10.5pt\;">Tax Credit Webinar</span></span></span></strong><br />\n<span style="color:#201f1e\;"><span style="font-family:symbol\;"><span style="font-size:10pt\;">&middot\;&nbsp\;&nbsp\;&nbsp\;&nbsp\;&nbsp\;&nbsp\;&nbsp\;&nbsp\;&nbsp\;</span></span></span><strong><span style="color:#201f1e\;"><span style="font-family:arial\,sans-serif\;"><span style="font-size:10.5pt\;">Date: Thursday\, April 9</span></span></span></strong><strong><sup><span style="color:#201f1e\;"><span style="font-family:arial\,sans-serif\;"><span style="font-size:8pt\;">th</span></span></span></sup></strong><strong><span style="color:#201f1e\;"><span style="font-family:arial\,sans-serif\;"><span style="font-size:10.5pt\;">\, 2:00 PM ET</span></span></span></strong><br />\n<span style="color:#201f1e\;"><span style="font-family:symbol\;"><span style="font-size:10pt\;">&middot\;&nbsp\;&nbsp\;&nbsp\;&nbsp\;&nbsp\;&nbsp\;&nbsp\;&nbsp\;&nbsp\;</span></span></span><strong><span style="color:#201f1e\;"><span style="font-family:arial\,sans-serif\;"><span style="font-size:10.5pt\;">Presenter:</span></span></span></strong><span style="color:#201f1e\;"><span style="font-family:arial\,sans-serif\;"><span style="font-size:10.5pt\;">&nbsp\;Ray Beeman\, Principal and Co-leader\, Washington </span></span></span><span style="color:#201f1e\;"><span style="font-family:arial\,sans-serif\;"><span style="font-size:10.5pt\;">Council Ernst and Young\, LLP</span></span></span><br />\n<span style="color:#201f1e\;"><span style="font-family:symbol\;"><span style="font-size:10pt\;">&middot\;&nbsp\;&nbsp\;&nbsp\;&nbsp\;&nbsp\;&nbsp\;&nbsp\;&nbsp\;&nbsp\;</span></span></span><strong><span style="color:#201f1e\;"><span style="font-family:arial\,sans-serif\;"><span style="font-size:10.5pt\;">Topic:</span></span></span></strong><span style="color:#201f1e\;"><span style="font-family:arial\,sans-serif\;"><span style="font-size:10.5pt\;">&nbsp\;Federal tax policy update regarding COVID-19 changes</span></span></span><br />\n<span style="color:#201f1e\;"><span style="font-family:symbol\;"><span style="font-size:10pt\;">&middot\;&nbsp\;&nbsp\;&nbsp\;&nbsp\;&nbsp\;&nbsp\;&nbsp\;&nbsp\;&nbsp\;</span></span></span><strong><span style="color:#201f1e\;"><span style="font-family:arial\,sans-serif\;"><span style="font-size:10.5pt\;">Registration:</span></span></span></strong><span style="color:#201f1e\;"><span style="font-family:arial\,sans-serif\;"><span style="font-size:10.5pt\;">&nbsp\;You must register in advance for this webinar using&nbsp\;<a data-saferedirecturl="https://www.google.com/url?q=http://clicks.weblinkinternational.com/ls/click?upn%3D2vLz-2BccvG2sCqUyCoj6YZAuheAS-2BdAli0Tsf7kIWds4eCUuGY1LyLUk-2FU3GEebxkqnPZhk2kVcm512ypEXhrMHFpvPSBTMf4UUqgzNA-2BGLv1ydUbG3uHtlHUt0j2KLWZH8qTepx-2Fmw6z1Q20vuC9y9dLimoExY6W61dLqJIE69bEAWWj-2BqZMEcjkDzvfd4GVbEYES9997TXDnu-2BSO605zopONxfJQPpjvetIYmcf00A-3Dj1Vj_-2FKY24pr3voGYpiFpYyL675S-2FlkONW2zoGvwYyvFHz-2F0L3vytOynEjS80Caf7yL0dXuTMcZ4HLxSLXj2hNWk9Tj-2BZSm7g45lY0A3FHhTTb35NMf6QdlFGQ4fkdkloL2CWV2qnfQ8dLGndNrt0T7RiF0dwX1UCPFzCQP0KCdz8eBg64ko-2BD7dsKf-2BwARDOdn4iv1sZ5iFr3hCRKyCVtwhTUzf41BXODsszsLiiwStmAzY-3D&amp\;source=gmail&amp\;ust=1586384657844000&amp\;usg=AFQjCNHwyRUfxUkvtWxD3gIr1F3tgvGIyg" href="http://clicks.weblinkinternational.com/ls/click?upn=2vLz-2BccvG2sCqUyCoj6YZAuheAS-2BdAli0Tsf7kIWds4eCUuGY1LyLUk-2FU3GEebxkqnPZhk2kVcm512ypEXhrMHFpvPSBTMf4UUqgzNA-2BGLv1ydUbG3uHtlHUt0j2KLWZH8qTepx-2Fmw6z1Q20vuC9y9dLimoExY6W61dLqJIE69bEAWWj-2BqZMEcjkDzvfd4GVbEYES9997TXDnu-2BSO605zopONxfJQPpjvetIYmcf00A-3Dj1Vj_-2FKY24pr3voGYpiFpYyL675S-2FlkONW2zoGvwYyvFHz-2F0L3vytOynEjS80Caf7yL0dXuTMcZ4HLxSLXj2hNWk9Tj-2BZSm7g45lY0A3FHhTTb35NMf6QdlFGQ4fkdkloL2CWV2qnfQ8dLGndNrt0T7RiF0dwX1UCPFzCQP0KCdz8eBg64ko-2BD7dsKf-2BwARDOdn4iv1sZ5iFr3hCRKyCVtwhTUzf41BXODsszsLiiwStmAzY-3D" style="color:rgb(17\, 85\, 204)\;" target="_blank"><span style="color:#00adef\;">this link</span></a></span></span></span><br />\n<br />\n<br />\n&nbsp\;
LOCATION:Webinar
UID:e.3610.302
SEQUENCE:3
DTSTAMP:20260420T045809Z
URL:https://business.mountpleasantchamber.org/events/details/coronavirus-aid-relief-and-economic-security-cares-act-tax-credit-webinar-302
END:VEVENT

END:VCALENDAR
