BEGIN:VCALENDAR
VERSION:2.0
PRODID:-//ChamberMaster//Event Calendar 2.0//EN
METHOD:PUBLISH
X-PUBLISHED-TTL:P3D
REFRESH-INTERVAL:P3D
CALSCALE:GREGORIAN
BEGIN:VEVENT
DTSTART:20200806T133000Z
DTEND:20200806T220000Z
X-MICROSOFT-CDO-ALLDAYEVENT:FALSE
SUMMARY:Coastal Financial Planning Group Presents: Charleston Retirement Planning Summit VI
DESCRIPTION:Retirement Planning Summit - August 4-6\n\n\n\nMany Topics - Multiple Speakers\n\nAll Experts In Their Field\n\nAll Online!\n\n\n\nWe have assembled over 15 of the top experts in the field of planning for retirement and you will have access to each one of their virtual presentations from the comfort of your laptop\, tablet\, desktop\, or mobile phone. FREE\n\n\n\nTo register:\n\nhttps://www.retirementplanningsummit.com/
X-ALT-DESC;FMTTYPE=text/html:<span style="color: rgb(51\, 51\, 51)\; font-family: verdana\; font-size: 13px\; background-color: rgb(255\, 255\, 255)\;">Retirement Planning Summit - August 4-6</span><br />\n<br />\n<span style="font-family:verdana\;">Many Topics - Multiple Speakers<br />\nAll Experts In Their Field<br />\nAll Online!<br />\n<br />\nWe have assembled over 15 of the top experts in the field of planning for retirement and you will have access to each one of their virtual presentations from the comfort of your laptop\, tablet\, desktop\, or mobile phone. FREE<br />\n<br />\nTo register:<br />\n<strong><a href="https://www.retirementplanningsummit.com/">https://www.retirementplanningsummit.com/</a></strong></span>
LOCATION:Virtual
UID:e.3610.365
SEQUENCE:3
DTSTAMP:20260420T113649Z
URL:https://business.mountpleasantchamber.org/events/details/coastal-financial-planning-group-presents-charleston-retirement-planning-summit-vi-365
END:VEVENT

END:VCALENDAR
