BEGIN:VCALENDAR
VERSION:2.0
PRODID:-//ChamberMaster//Event Calendar 2.0//EN
METHOD:PUBLISH
X-PUBLISHED-TTL:P3D
REFRESH-INTERVAL:P3D
CALSCALE:GREGORIAN
BEGIN:VEVENT
DTSTART;VALUE=DATE:20210107
DTEND;VALUE=DATE:20210118
TRANSP:TRANSPARENT
X-MICROSOFT-CDO-ALLDAYEVENT:TRUE
SUMMARY:Charleston Restaurant Week
DESCRIPTION:Charleston Restaurant Week runs from January 7   17\, 2021! Look up where to eat in Mount Pleasant\, support your neighbors and get great deals!
X-ALT-DESC;FMTTYPE=text/html:<span style="font-family:verdana\;">Charleston Restaurant Week runs from January 7 &ndash\; 17\, 2021! <strong><a href="https://experiencemountpleasant.com/live_like_a_local/restaurant-week-2021-mount-pleasant/?mc_cid=c8bc8373e4&amp\;mc_eid=46448cbb18">Look up</a></strong> where to eat in Mount Pleasant\, support your neighbors and get great deals!</span>
LOCATION:
UID:e.3610.426
SEQUENCE:3
DTSTAMP:20260420T185857Z
URL:https://business.mountpleasantchamber.org/events/details/charleston-restaurant-week-426
END:VEVENT

END:VCALENDAR
