BEGIN:VCALENDAR
VERSION:2.0
PRODID:-//ChamberMaster//Event Calendar 2.0//EN
METHOD:PUBLISH
X-PUBLISHED-TTL:P3D
REFRESH-INTERVAL:P3D
CALSCALE:GREGORIAN
BEGIN:VEVENT
DTSTART:20200227T220000Z
DTEND:20200301T020000Z
X-MICROSOFT-CDO-ALLDAYEVENT:FALSE
SUMMARY:Charleston Boutique Wearhouse Sale
DESCRIPTION:A three day pop up warehouse sale featuring local designers and boutiques. End of season pricing up to 90% off. Charity Event on opening night Thursday\, Feb 27 featuring a fashion show\, silent auction\, first selections on merchandise and FREE swag Bags for the first 100 people to enter.
X-ALT-DESC;FMTTYPE=text/html:A three day pop up warehouse sale featuring local designers and boutiques. End of season pricing up to 90% off. Charity Event on opening night Thursday\, Feb 27 featuring a fashion show\, silent auction\, first selections on merchandise and FREE swag Bags for the first 100 people to enter.&nbsp\;&nbsp\;
LOCATION:Omar Shrine 176 Patriots Point Road Mount Pleasant\, SC 29466
UID:e.3610.296
SEQUENCE:3
DTSTAMP:20260420T033412Z
URL:https://business.mountpleasantchamber.org/events/details/charleston-boutique-wearhouse-sale-296
END:VEVENT

END:VCALENDAR
