BEGIN:VCALENDAR
VERSION:2.0
PRODID:-//ChamberMaster//Event Calendar 2.0//EN
METHOD:PUBLISH
X-PUBLISHED-TTL:P3D
REFRESH-INTERVAL:P3D
CALSCALE:GREGORIAN
BEGIN:VEVENT
DTSTART:20210425T150000Z
DTEND:20210425T210000Z
X-MICROSOFT-CDO-ALLDAYEVENT:FALSE
SUMMARY:Blessing of the Fleet & Seafood Festival
DESCRIPTION:The Annual Blessing of the Fleet & Seafood Festival presented by East Cooper Medical Center and Harris Teeter is one of the most highly anticipated events of the year! The festival pays tribute to Mount Pleasant's local shrimping and fishing industry\, offering a boat parade\, live music\, craft show and lots of free activities with the picturesque Ravenel Bridge and Charleston Harbor for a backdrop!\n\n\n\n#JustAsk where your seafood came from before you buy! Support local and wild caught to support your fishermen nothing beats Wild American Shrimp!\n\n\n\nVisit Facebook for more information.\n\nTo see the full schedule of events\, visit the Town of Mount Pleasant's website here.
X-ALT-DESC;FMTTYPE=text/html:<span style="font-family:verdana\;">The Annual Blessing of the Fleet &amp\; Seafood Festival presented by East Cooper Medical Center and Harris Teeter is one of the most highly anticipated events of the year! The festival pays tribute to Mount Pleasant&rsquo\;s local shrimping and fishing industry\, offering a boat parade\, live music\, craft show and lots of free activities with the picturesque Ravenel Bridge and Charleston Harbor for a backdrop!<br />\n<br />\n#JustAsk where your seafood came from before you buy! Support local and wild caught to support your fishermen&hellip\;nothing beats Wild American Shrimp!<br />\n<br />\nVisit <strong><a href="https://www.facebook.com/events/399244301178393/">Facebook</a></strong> for more information.<br />\nTo see the full schedule of events\, visit the Town of Mount Pleasant&#39\;s website <strong><a href="https://experiencemountpleasant.com/events/blessing-of-the-fleet/">here</a></strong>.</span>
LOCATION:Memorial Waterfront Park 99 Harry M. Hallman\, Jr. Blvd. Mount Pleasant\, SC 29464
UID:e.3610.444
SEQUENCE:3
DTSTAMP:20260421T003504Z
URL:https://business.mountpleasantchamber.org/events/details/blessing-of-the-fleet-seafood-festival-444
END:VEVENT

END:VCALENDAR
