BEGIN:VCALENDAR
VERSION:2.0
PRODID:-//ChamberMaster//Event Calendar 2.0//EN
METHOD:PUBLISH
X-PUBLISHED-TTL:P3D
REFRESH-INTERVAL:P3D
CALSCALE:GREGORIAN
BEGIN:VEVENT
DTSTART:20260426T150000Z
DTEND:20260426T210000Z
X-MICROSOFT-CDO-ALLDAYEVENT:FALSE
SUMMARY:Blessing of the Fleet & Seafood Festival
DESCRIPTION:The Blessing of the Fleet & Seafood Festival is the most popular event of the year in Mount Pleasant\, South Carolina! This is a must-see festival for anyone looking for things to do in the Charleston area. With the iconic Ravenel Bridge and Cooper River as a backdrop\, this family-friendly waterfront festival honors the Lowcountry's fishing heritage with a traditional Blessing of the Fleet and shrimp boat parade\, where working shrimp boats receive a ceremonial blessing for a safe and successful season. Festival-goers can enjoy local seafood samplings prepared by Mount Pleasant chefs\, live music throughout the day\, a craft show\, free activities for all ages\, and a Mount Pleasant Artists Guild juried art exhibit featuring regional artists! #JustAsk where your seafood came from before you buy! Support local and wild-caught to support your fishermen\; nothing beats Wild American Shrimp!
X-ALT-DESC;FMTTYPE=text/html:The Blessing of the Fleet &amp\; Seafood Festival is the most popular event of the year in Mount Pleasant\, South Carolina! This is a must-see festival for anyone looking for things to do in the Charleston area. With the iconic Ravenel Bridge and Cooper River as a backdrop\, this family-friendly waterfront festival honors the Lowcountry&rsquo\;s fishing heritage with a traditional Blessing of the Fleet and shrimp boat parade\, where working shrimp boats receive a ceremonial blessing for a safe and successful season. Festival-goers can enjoy local seafood samplings prepared by Mount Pleasant chefs\, live music throughout the day\, a craft show\, free activities for all ages\, and a Mount Pleasant Artists Guild juried art exhibit featuring regional artists! #JustAsk where your seafood came from before you buy! Support local and wild-caught to support your fishermen\; nothing beats Wild American Shrimp!
LOCATION:Mount Pleasant Waterfront Park 99 Harry M. Hallman Jr Blvd. Mount Pleasant\, SC 29464
UID:e.3610.3813
SEQUENCE:3
DTSTAMP:20260420T201229Z
URL:https://business.mountpleasantchamber.org/events/details/blessing-of-the-fleet-seafood-festival-3813
END:VEVENT

END:VCALENDAR
