BEGIN:VCALENDAR
VERSION:2.0
PRODID:-//ChamberMaster//Event Calendar 2.0//EN
METHOD:PUBLISH
X-PUBLISHED-TTL:P3D
REFRESH-INTERVAL:P3D
CALSCALE:GREGORIAN
BEGIN:VEVENT
DTSTART:20210126T123000Z
DTEND:20210126T140000Z
X-MICROSOFT-CDO-ALLDAYEVENT:FALSE
SUMMARY:Before Nine - Hyatt Place Patio
DESCRIPTION:Our Before Nine is a wonderful opportunity to get your day started with coffee and conversation. Please join us for our breakfast networking event and bring a friend.\n\n\n\nSocial Distancing Protocols including masks will be required upon entry.
X-ALT-DESC;FMTTYPE=text/html:<br />\n<br />\n<span style="font-family:verdana\;">Our Before Nine is a wonderful opportunity to get your day started with coffee and conversation. Please join us for our breakfast networking event and bring a friend.<br />\n<br />\nSocial Distancing Protocols including masks will be required upon entry.</span>
LOCATION:1600 Palmetto Grande Drive Mount Pleasant\, SC 29464
UID:e.3610.424
SEQUENCE:3
DTSTAMP:20260420T185934Z
URL:https://business.mountpleasantchamber.org/events/details/before-nine-hyatt-place-patio-424
END:VEVENT

END:VCALENDAR
