BEGIN:VCALENDAR
VERSION:2.0
PRODID:-//ChamberMaster//Event Calendar 2.0//EN
METHOD:PUBLISH
X-PUBLISHED-TTL:P3D
REFRESH-INTERVAL:P3D
CALSCALE:GREGORIAN
BEGIN:VEVENT
DTSTART:20200904T160000Z
DTEND:20200904T170000Z
X-MICROSOFT-CDO-ALLDAYEVENT:FALSE
SUMMARY:Back to School during COVID 19 - managing student and parent stress
DESCRIPTION:Back to School during COVID 19 - managing student and parent stress\n\n\n\nBack to school\, under normal circumstances\, can be challenging and stressful. How do you handle it during a pandemic? Join Shannon Scott\, M.A.\, a Licensed Professional Counselor with Life Resources this Friday for a lunchtime talk on tips and practical advice as students and parents get ready to return Back to School during COVID 19. This is a FREE Zoom event. \n\n\n\nAfter registering\, you will receive a confirmation email containing information about joining the meeting. \n\n\n\nhttps://us02web.zoom.us/meeting/register/tZcuduCopzgiGtDJ9zI7kh0-oqQYef4bJz9i
X-ALT-DESC;FMTTYPE=text/html:<span style="font-family:verdana\;">Back to School during COVID 19 - managing student and parent stress<br />\n<br />\nBack to school\, under normal circumstances\, can be challenging and stressful. How do you handle it during a pandemic? Join Shannon Scott\, M.A.\, a Licensed Professional Counselor with Life Resources this Friday for a lunchtime talk on tips and practical advice as students and parents get ready to return Back to School during COVID 19. This is a FREE Zoom event.&nbsp\;<br />\n<br />\nAfter registering\, you will receive a confirmation email containing information about joining the meeting.&#8203\;<br />\n<br />\n<strong><a href="https://us02web.zoom.us/meeting/register/tZcuduCopzgiGtDJ9zI7kh0-oqQYef4bJz9i">https://us02web.zoom.us/meeting/register/tZcuduCopzgiGtDJ9zI7kh0-oqQYef4bJz9i</a></strong></span><br />\n<br />\n<br />\n<br />\n&nbsp\;
LOCATION:
UID:e.3610.374
SEQUENCE:3
DTSTAMP:20260420T133924Z
URL:https://business.mountpleasantchamber.org/events/details/back-to-school-during-covid-19-managing-student-and-parent-stress-374
END:VEVENT

END:VCALENDAR
