BEGIN:VCALENDAR
VERSION:2.0
PRODID:-//ChamberMaster//Event Calendar 2.0//EN
METHOD:PUBLISH
X-PUBLISHED-TTL:P3D
REFRESH-INTERVAL:P3D
CALSCALE:GREGORIAN
BEGIN:VEVENT
DTSTART:20210313T160000Z
DTEND:20210313T200000Z
X-MICROSOFT-CDO-ALLDAYEVENT:FALSE
SUMMARY:ArtFest
DESCRIPTION:Local Music\, Dance & Visual Arts\n\n\n\nThis annual festival at the Mount Pleasant Towne Centre brings families and cultural enthusiasts together with budding and professional artists for an event that showcases a diverse array of local and regional artistic talent.\n\n\n\nLocal music\, dance and visual arts studios offer stunning performances by some of the area's most talented individuals and groups. Creative aspirations are ignited in children who are given opportunities to explore many art forms and create their own masterpieces.\n\n\n\nThe Mount Pleasant Artists Guild presents a juried art show. All activities and performances are free of charge. The event attracts residents and visitors of all ages\, from young parents and children through seniors.\n\n\n\nFree admission! Free parking! Free activities!\n\n\n\nVisit Facebook for more information
X-ALT-DESC;FMTTYPE=text/html:<span style="font-family:verdana\;">Local Music\, Dance &amp\; Visual Arts<br />\n<br />\nThis annual festival at the Mount Pleasant Towne Centre brings families and cultural enthusiasts together with budding and professional artists for an event that showcases a diverse array of local and regional artistic talent.<br />\n<br />\nLocal music\, dance and visual arts studios offer stunning performances by some of the area&rsquo\;s most talented individuals and groups. Creative aspirations are ignited in children who are given opportunities to explore many art forms and create their own masterpieces.<br />\n<br />\nThe Mount Pleasant Artists Guild presents a juried art show. All activities and performances are free of charge. The event attracts residents and visitors of all ages\, from young parents and children through seniors.<br />\n<br />\nFree admission! Free parking! Free activities!<br />\n<br />\nVisit <strong><a href="https://www.facebook.com/events/748302992772507/">Facebook</a></strong> for more information</span>
LOCATION:Mt. Pleasant Towne Centre 1218 Belk Drive Mt Pleasant\, SC 29464
UID:e.3610.443
SEQUENCE:3
DTSTAMP:20260420T224230Z
URL:https://business.mountpleasantchamber.org/events/details/artfest-03-13-2021-443
END:VEVENT

END:VCALENDAR
