BEGIN:VCALENDAR
VERSION:2.0
PRODID:-//ChamberMaster//Event Calendar 2.0//EN
METHOD:PUBLISH
X-PUBLISHED-TTL:P3D
REFRESH-INTERVAL:P3D
CALSCALE:GREGORIAN
BEGIN:VEVENT
DTSTART:20210417T113000Z
DTEND:20210417T150000Z
X-MICROSOFT-CDO-ALLDAYEVENT:FALSE
SUMMARY:American Legion Post 136: Pancake Breakfast and Abate Motorcycle Club Show
DESCRIPTION:GRAB AND GO\n\nPhone in order to 843-884-0062 with quantity needed\, Name and call back number. You'll receive an order number and pickup time. Arrive at post 10624 parking lot and give order number to\n\nattendant. We'll have people stationed in parking lot to received your order and bring it to you.\n\nOrders will be paid for when picked up NOTE: CASH ONLY (ATM AVAILABLE ON SITE) THE COST IS $8.00 EACH PERSON\n\n\n\nDINE-IN\n\nCome to address above and you will be directed where to park. We will have seating out side and some inside. YOU CAN CHECK OUT THE ITEMS FOR SALE AND THE MOTORCYCLES ON DISPLAY IN THE\n\nFRONT OF BUILDING.\n\n\n\nBREAKFAST INCLUDES: PANCAKES\, SYRUP\, SCRAMBLED\n\nEGGS\, BACON AND OR SAUSAGE. COFFEE AND JUICE
X-ALT-DESC;FMTTYPE=text/html:<br />\n<u><strong>GRAB AND GO</strong></u><br />\n<strong>Phone in order to 843-884-0062 with quantity needed\, Name and call back number. You&rsquo\;ll receive an order number and pickup time. Arrive at post 10624 parking lot and give order number to<br />\nattendant. We&rsquo\;ll have people stationed in parking lot to received your order and bring it to you.<br />\nOrders will be paid for when picked up NOTE: CASH ONLY (ATM AVAILABLE ON SITE) THE COST IS $8.00 EACH PERSON<br />\n<br />\n<u>DINE-IN</u><br />\nCome to address above and you will be directed where to park. We will have seating out side and some inside. YOU CAN CHECK OUT THE ITEMS FOR SALE AND THE MOTORCYCLES ON DISPLAY IN THE<br />\nFRONT OF BUILDING.<br />\n<br />\nBREAKFAST INCLUDES: PANCAKES\, SYRUP\, SCRAMBLED<br />\nEGGS\, BACON AND OR SAUSAGE. COFFEE AND JUICE</strong>
LOCATION:
UID:e.3610.460
SEQUENCE:3
DTSTAMP:20260421T014242Z
URL:https://business.mountpleasantchamber.org/events/details/american-legion-post-136-pancake-breakfast-and-abate-motorcycle-club-show-460
END:VEVENT

END:VCALENDAR
