BEGIN:VCALENDAR
VERSION:2.0
PRODID:-//ChamberMaster//Event Calendar 2.0//EN
METHOD:PUBLISH
X-PUBLISHED-TTL:P3D
REFRESH-INTERVAL:P3D
CALSCALE:GREGORIAN
BEGIN:VEVENT
DTSTART:20210414T200000Z
DTEND:20210414T230000Z
X-MICROSOFT-CDO-ALLDAYEVENT:FALSE
SUMMARY:After Hours: Leeah's Old Village Wine Shop
DESCRIPTION:Enjoy complimentary hors d'oeuvres and special Happy Hour drink pricing at fellow MPCC member's Leeah's Old Village Wine Shop.  Face masks are required upon entry.
X-ALT-DESC;FMTTYPE=text/html:<br />\n<span style="color: rgb(51\, 51\, 51)\; font-family: verdana\; font-size: 13px\; background-color: rgb(255\, 255\, 255)\;">Enjoy complimentary hors d&#39\;oeuvres and special Happy Hour drink pricing at fellow MPCC member&#39\;s Leeah&#39\;s Old Village Wine Shop.&nbsp\; Face masks are required upon entry.</span>
LOCATION:
UID:e.3610.456
SEQUENCE:3
DTSTAMP:20260421T013904Z
URL:https://business.mountpleasantchamber.org/events/details/after-hours-leeah-s-old-village-wine-shop-456
END:VEVENT

END:VCALENDAR
