BEGIN:VCALENDAR
VERSION:2.0
PRODID:-//ChamberMaster//Event Calendar 2.0//EN
METHOD:PUBLISH
X-PUBLISHED-TTL:P3D
REFRESH-INTERVAL:P3D
CALSCALE:GREGORIAN
BEGIN:VEVENT
DTSTART:20201111T210000Z
DTEND:20201112T000000Z
X-MICROSOFT-CDO-ALLDAYEVENT:FALSE
SUMMARY:After Hours-Hilton Garden Inn Pool Deck
DESCRIPTION:This will be a limited in-person\, outside event with social distancing protocols in place. Therefore you must be a MPCC member in good standing.
X-ALT-DESC;FMTTYPE=text/html:<span style="font-family:verdana\;">This will be a limited in-person\, outside event with social distancing protocols in place. Therefore you must be a MPCC member in good standing.</span>
LOCATION:Hilton Garden Inn Pool Deck 300 Wingo Way Mount Pleasant\, SC 29464
UID:e.3610.36
SEQUENCE:3
DTSTAMP:20260420T154406Z
URL:https://business.mountpleasantchamber.org/events/details/after-hours-hilton-garden-inn-pool-deck-36
END:VEVENT

END:VCALENDAR
