BEGIN:VCALENDAR
VERSION:2.0
PRODID:-//ChamberMaster//Event Calendar 2.0//EN
METHOD:PUBLISH
X-PUBLISHED-TTL:P3D
REFRESH-INTERVAL:P3D
CALSCALE:GREGORIAN
BEGIN:VEVENT
DTSTART:20200708T203000Z
DTEND:20200708T213000Z
X-MICROSOFT-CDO-ALLDAYEVENT:FALSE
SUMMARY:After Hours: Duvall Catering & Events
DESCRIPTION:Join us for our virtual Happy Hour! We'll make a Mojito (get recipe here) together with the Duvall Catering & Events team followed by a virtual tour of their establishment! Then an opportunity to network in one of 2 zoom breakout rooms.\n\n\n\nRegister in advance for this meeting:\n\n\n\nhttps://us02web.zoom.us/meeting/register/tZIkde-uqjgrHNJjPj0YCOxcwmnlic9q5x1U
X-ALT-DESC;FMTTYPE=text/html:<span style="font-family:verdana\;">Join us for our virtual Happy Hour! We&#39\;ll make a Mojito (get recipe <strong><a href="https://docs.google.com/document/d/1tO5fJzarObR8YSynHUw9m1QRChu3egd5XT0LH9GJ4cA/edit?usp=sharing">here</a></strong>) together with the Duvall Catering &amp\; Events team followed by a virtual tour of their establishment! Then an opportunity to network in one of 2 zoom breakout rooms.<br />\n<br />\nRegister in advance for this meeting:<br />\n<br />\n<strong><a href="https://us02web.zoom.us/meeting/register/tZIkde-uqjgrHNJjPj0YCOxcwmnlic9q5x1U">https://us02web.zoom.us/meeting/register/tZIkde-uqjgrHNJjPj0YCOxcwmnlic9q5x1U</a></strong></span>
LOCATION:
UID:e.3610.32
SEQUENCE:3
DTSTAMP:20260420T093436Z
URL:https://business.mountpleasantchamber.org/events/details/after-hours-duvall-catering-events-32
END:VEVENT

END:VCALENDAR
