BEGIN:VCALENDAR
VERSION:2.0
PRODID:-//ChamberMaster//Event Calendar 2.0//EN
METHOD:PUBLISH
X-PUBLISHED-TTL:P3D
REFRESH-INTERVAL:P3D
CALSCALE:GREGORIAN
BEGIN:VEVENT
DTSTART:20210113T220000Z
DTEND:20210114T000000Z
X-MICROSOFT-CDO-ALLDAYEVENT:FALSE
SUMMARY:After Hours - Butcher & The Boar
DESCRIPTION:Enjoy complimentary hors d'oeuvres and special Happy Hour drink pricing at fellow MPCC member's Butcher and The Boar restaurant\, 730 Coleman Blvd.\, Suite C\, Mt. Pleasant.  This  event will be outside and follow COVID 19 protocol.   Face masks are required upon entry.
X-ALT-DESC;FMTTYPE=text/html:<br />\n<br />\n<br />\n<span style="font-family:verdana\;">Enjoy complimentary hors d&#39\;oeuvres and special Happy Hour drink pricing at fellow MPCC member&#39\;s Butcher and The Boar restaurant\, 730 Coleman Blvd.\, Suite C\, Mt. Pleasant.&nbsp\; This&nbsp\; event will be outside and follow COVID 19 protocol.&nbsp\; &nbsp\;Face masks are required upon entry.</span>
LOCATION:Butcher & The Boar 730 Coleman Boulevard\, Suite C Mount Pleasant\, SC 29464
UID:e.3610.422
SEQUENCE:3
DTSTAMP:20260420T190159Z
URL:https://business.mountpleasantchamber.org/events/details/after-hours-butcher-the-boar-01-13-2021-422
END:VEVENT

END:VCALENDAR
