BEGIN:VCALENDAR
VERSION:2.0
PRODID:-//ChamberMaster//Event Calendar 2.0//EN
METHOD:PUBLISH
X-PUBLISHED-TTL:P3D
REFRESH-INTERVAL:P3D
CALSCALE:GREGORIAN
BEGIN:VEVENT
DTSTART:20200921T120000Z
DTEND:20200930T210000Z
X-MICROSOFT-CDO-ALLDAYEVENT:FALSE
SUMMARY:2020 Mount Pleasant Business and Community VIRTUAL Expo
DESCRIPTION:For detailed information\, please visit the Mount Pleasant Chamber of Commerce Business and Community Expo page here.
X-ALT-DESC;FMTTYPE=text/html:<span style="font-family:verdana\;">For detailed information\, please visit the Mount Pleasant Chamber of Commerce Business and Community Expo page <strong><a href="https://www.mountpleasantchamber.org/expo">here</a></strong></span>.
LOCATION:
UID:e.3610.7
SEQUENCE:3
DTSTAMP:20260420T123607Z
URL:https://business.mountpleasantchamber.org/events/details/2020-mount-pleasant-business-and-community-virtual-expo-7
END:VEVENT

END:VCALENDAR
